Workbook

Sheet Contents
B9: Project Cashflow V9
B11: Contents:
B13: 1. Notes for completion
B15: 2. HBFI Cashflow Model Overview
B17: 3. Unit Sales Schedule
B19: 4. Capex
B21: 5. Monthly Cashflow
B23: 6. Cashflow Summary

Sheet Notes
A1: Notes for Completion
B2: *All fields marked in yellow are entry fields.
B4: HBFI Cashflow Model Overview | D4: Format
B5: 1 | C5: Name of proposed development | D5: Free
B6: =B5+1 -> 2 | C6: Address of proposed site | D6: Free
B7: =B6+1 -> 3 | C7: Description including number of units & unit types | D7: Free
B8: =B7+1 -> 4 | C8: Number of proposed phases to be funded | D8: Number
B9: =B8+1 -> 5 | C9: expected number of months to complete construction of units. | D9: Number
B10: =B9+1 -> 6 | C10: Name of person completing cashflow | D10: Free
B11: =B10+1 -> 7 | C11: Date of completion of cashflow | D11: DD/MM/YYYY
B12: =B11+1 -> 8 | C12: Expected start and end dates of each phase of development | D12: DD/MM/YYYY
B13: =B12+1 -> 9 | C13: Original cost of site acquisition (if owned) | D13: Number
B14: =B13+1 -> 10 | C14: Input the current Site Value per valuation report | D14: Number
B15: =B14+1 -> 11 | C15: Is the site to be purchased (Y/N) | D15: Drop down
B16: =B15+1 -> 12 | C16: If the site is not to be purchased is the site to be refinanced (Y/N) | D16: Drop down
B17: =B16+1 -> 13 | C17: Amount of refinancing required | D17: Number
... B28: =B27+1 -> 24 | C28: Level of requested interest rate margin | D28: %
B29: Unit Sales Schedule | D29: Format
B30: =B28+1 -> 25 | C30: Expected uit number and address within the proposed development | D30: Free
B31: =B30+1 -> 26 | C31: Select the phase the unit is planned to be sold in | D31: Drop down
B32: =B31+1 -> 27 | C32: Identify the property type of unit | D32: Drop down
B33: =B32+1 -> 28 | C33: Eg: House Type A, Type B, Type C etc. | D33: Free
B34: =B33+1 -> 29 | C34: Description of unit type (2 Storey, Duplex, etc) | D34: Free
B35: =B34+1 -> 30 | C35: List the intended market for the unit (Social/Affordable, Part V, etc. Open market sales classified as NA) | D35: Drop down
B36: =B35+1 -> 31 | C36: Detail the construction status of each unit at time of submission of application. | D36: Drop down
B37: =B36+1 -> 32 | C37: Detail the sales status of each unit at time of submission of application. | D37: Drop down
B38: =B37+1 -> 33 | C38: Record number of bedrooms per unit | D38: Drop down
B39: =B38+1 -> 34 | C39: Record area (m2) per unit | D39: Number
B40: =B39+1 -> 35 | C40: Record area (ft2) per unit | D40: Number
B41: =B40+1 -> 36 | C41: Record expected sales price per unit (incl VAT) | D41: Number
B42: =B41+1 -> 37 | C42: Expected date of completion of construction | D42: MM/YYYY
B43: =B42+1 -> 38 | C43: Expected date of sale completion | D43: MM/YYYY
B44: Capex | D44: Format
B45: =B43+1 -> 39 | C45: Complete the proposed range of unit categories (correspond with those within (28) above) | D45: Free
B46: =B45+1 -> 40 | C46: Complete the proposed range of unit types (correspond with those within (29) above) | D46: Free
B47: =B46+1 -> 41 | C47: Average site works costs expected per unit | D47: Number
B48: =B47+1 -> 42 | C48: Average site development costs expected per unit | D48: Number
B49: =B48+1 -> 43 | C49: Average substructure costs expected per unit | D49: Number
B50: =B49+1 -> 44 | C50: Average superstructure & fit out costs expected per unit | D50: Number
B51: =B50+1 -> 45 | C51: Average preliminaries costs expected per unit | D51: Number
...

Sheet Overview
A1: ="Cashflow Model Overview: "&B4 -> Cashflow Model Overview:
A4: Borrower Name | F4: 1 | G4: Inputter | M4: =F8+1 -> 6
A5: Site | F5: =F4+1 -> 2 | G5: Date | M5: =M4+1 -> 7
A6: Description | F6: =F5+1 -> 3 | G6: Application
A7: Number Phases | F7: =F6+1 -> 4
A8: Construction Duration (no. Months) | F8: =F7+1 -> 5
A10: Model Inputs
A11: Phase Details | B11: Start Date | C11: End Date | D11: =M5+1 -> 8
A12: =IF($B$7>0,"Phase 1","") | D12: 1
A13: =IF($B$7>1,"Phase 2","") | D13: 2
A14: =IF($B$7>2,"Phase 3","") | D14: 3
A15: =IF($B$7>3,"Phase 4","") | D15: 4
A16: =IF($B$7>4,"Phase 5","") | D16: 5
A17: =IF($B$7>5,"Phase 6","") | D17: 6
A18: =IF($B$7>6,"Phase 7","") | D18: 7
A19: =IF($B$7>7,"Phase 8","") | D19: 8
A20: =IF($B$7>8,"Phase 9","") | D20: 9
A21: =IF($B$7>9,"Phase 10","") | D21: 10
A24: No. Units (populate Unit sales tab) | B24: {=TRANSPOSE(A12:A21)} | L24: Total
A25: House | B25: =COUNTIFS('Unit Sales'!$U:$U,Overview!$A25,'Unit Sales'!$C:$C,Overview!B$24) -> 0 | C25: =COUNTIFS('Unit Sales'!$U:$U,Overview!$A25,'Unit Sales'!$C:$C,Overview!C$24) -> 0 | D25: =COUNTIFS('Unit Sales'!$U:$U,Overview!$A25,'Unit Sales'!$C:$C,Overview!D$24) -> 0 | E25: =COUNTIFS('Unit Sales'!$U:$U,Overview!$A25,'Unit Sales'!$C:$C,Overview!E$24) -> 0 | F25: =COUNTIFS('Unit Sales'!$U:$U,Overview!$A25,'Unit Sales'!$C:$C,Overview!F$24) -> 0 | G25: =COUNTIFS('Unit Sales'!$U:$U,Overview!$A25,'Unit Sales'!$C:$C,Overview!G$24) -> 0 | H25: =COUNTIFS('Unit Sales'!$U:$U,Overview!$A25,'Unit Sales'!$C:$C,Overview!H$24) -> 0 | I25: =COUNTIFS('Unit Sales'!$U:$U,Overview!$A25,'Unit Sales'!$C:$C,Overview!I$24) -> 0 | ... K25: =COUNTIFS('Unit Sales'!$U:$U,Overview!$A25,'Unit Sales'!$C:$C,Overview!K$24) -> 0 | L25: =SUM(B25:K25) -> 0
A26: Apartment | B26: =COUNTIFS('Unit Sales'!$U:$U,Overview!$A26,'Unit Sales'!$C:$C,Overview!B$24) -> 0 | C26: =COUNTIFS('Unit Sales'!$U:$U,Overview!$A26,'Unit Sales'!$C:$C,Overview!C$24) -> 0 | D26: =COUNTIFS('Unit Sales'!$U:$U,Overview!$A26,'Unit Sales'!$C:$C,Overview!D$24) -> 0 | E26: =COUNTIFS('Unit Sales'!$U:$U,Overview!$A26,'Unit Sales'!$C:$C,Overview!E$24) -> 0 | F26: =COUNTIFS('Unit Sales'!$U:$U,Overview!$A26,'Unit Sales'!$C:$C,Overview!F$24) -> 0 | G26: =COUNTIFS('Unit Sales'!$U:$U,Overview!$A26,'Unit Sales'!$C:$C,Overview!G$24) -> 0 | H26: =COUNTIFS('Unit Sales'!$U:$U,Overview!$A26,'Unit Sales'!$C:$C,Overview!H$24) -> 0 | I26: =COUNTIFS('Unit Sales'!$U:$U,Overview!$A26,'Unit Sales'!$C:$C,Overview!I$24) -> 0 | ... K26: =COUNTIFS('Unit Sales'!$U:$U,Overview!$A26,'Unit Sales'!$C:$C,Overview!K$24) -> 0 | L26: =SUM(B26:K26) -> 0
A27: Other | B27: =COUNTIFS('Unit Sales'!$U:$U,Overview!$A27,'Unit Sales'!$C:$C,Overview!B$24) -> 0 | C27: =COUNTIFS('Unit Sales'!$U:$U,Overview!$A27,'Unit Sales'!$C:$C,Overview!C$24) -> 0 | D27: =COUNTIFS('Unit Sales'!$U:$U,Overview!$A27,'Unit Sales'!$C:$C,Overview!D$24) -> 0 | E27: =COUNTIFS('Unit Sales'!$U:$U,Overview!$A27,'Unit Sales'!$C:$C,Overview!E$24) -> 0 | F27: =COUNTIFS('Unit Sales'!$U:$U,Overview!$A27,'Unit Sales'!$C:$C,Overview!F$24) -> 0 | G27: =COUNTIFS('Unit Sales'!$U:$U,Overview!$A27,'Unit Sales'!$C:$C,Overview!G$24) -> 0 | H27: =COUNTIFS('Unit Sales'!$U:$U,Overview!$A27,'Unit Sales'!$C:$C,Overview!H$24) -> 0 | I27: =COUNTIFS('Unit Sales'!$U:$U,Overview!$A27,'Unit Sales'!$C:$C,Overview!I$24) -> 0 | ... K27: =COUNTIFS('Unit Sales'!$U:$U,Overview!$A27,'Unit Sales'!$C:$C,Overview!K$24) -> 0 | L27: =SUM(B27:K27) -> 0
A28: Total | B28: =SUM(B25:B27) -> 0 | C28: =SUM(C25:C27) -> 0 | D28: =SUM(D25:D27) -> 0 | E28: =SUM(E25:E27) -> 0 | F28: =SUM(F25:F27) -> 0 | G28: =SUM(G25:G27) -> 0 | H28: =SUM(H25:H27) -> 0 | I28: =SUM(I25:I27) -> 0 | ... L28: =SUM(L25:L27) -> 0
A31: Site Information
A32: Original site cost (if owned) | C32: =D11+1 -> 9
A33: Site Value | C33: =C32+1 -> 10
A34: Is the site to be purchased | C34: =C33+1 -> 11
A35: Acquisition costs -9.96% | B35: =IF(B34="Y",B33*9.96%,0) -> 0
A37: Re-financing
A38: Is the site to be refinanced | C38: =C34+1 -> 12
A39: Refinancing amount | C39: =C38+1 -> 13
A41: Additional Security | B41: Value € | C41: Stress % | D41: ← Internal use only | O41: Ad. security calc
A42: Land with planning (within subject site) | D42: =C39+1 -> 14 | O42: =(B42*(1-C42)) -> 0 | P42: =SUM(O42:O45) -> 0
A43: Land with planning (outside subject site) | D43: =D42+1 -> 15 | O43: =(B43*(1-C43)) -> 0
A44: Land without planning | D44: =D43+1 -> 16 | O44: =(B44*(1-C44)) -> 0
A45: Other | D45: =D44+1 -> 17 | O45: =(B45*(1-C45)) -> 0
A47: Contingency
A48: Construction | C48: =D45+1 -> 18
A49: Non construction | C49: =C48+1 -> 19
A50: Construction Inflation | B50: ='Monthly cashflow'!$D$91 -> 0
...

Sheet Unit Sales
A1: ="Unit Sales Schedule: "&Overview!B4 -> Unit Sales Schedule:
M2: Total | N2: Stressed
L3: GDV | M3: =SUM(M10:M509) -> 0 | N3: =SUM(Q10:Q509) -> 0
A5: *Minimum fields required to generate cashflow | M5: % Value of Sales price | N5: No. Months Delay
L6: Stress | O6: ← Internal use only
B7: =Overview!C59+1 -> 25 | C7: =B7+1 -> 26 | D7: =C7+1 -> 27 | E7: =D7+1 -> 28 | F7: =E7+1 -> 29 | G7: =F7+1 -> 30 | H7: =G7+1 -> 31 | I7: =H7+1 -> 32 | J7: =I7+1 -> 33 | ... O7: =N7+1 -> 38
A8: No. | B8: Property name | C8: Phase* | D8: Property Type* | E8: Unit Type | F8: Description | G8: Target Market | H8: Construction Status | I8: Sales Status | J8: No. Bedrooms | K8: Area | L8: Area | M8: Selling Price (incl. VAT)* | N8: Expected Construction Completion Date* | O8: Expected sale date* | P8: Planning Expiration Date | Q8: Stressed Sales Prices | R8: Stressed Sales date
B9: (eg: 1 example street, example road) | C9: (Select the phase the unit will be completed from Dropdown menu) | D9: (Select the property type from Dropdown menu) | E9: (Type A/B/C, etc) | F9: (2 Storey, Duplex, etc) | G9: (Select the target market from Dropdown menu) | H9: (Select the current build status from Dropdown menu) | I9: (Select the current sales status from Dropdown menu) | J9: (Select the number of bedrooms from Dropdown menu) | K9: (m2) | L9: (ft2) | M9: (Current price not accounting for inflation) | N9: MM/YYYY | O9: MM/YYYY | P9: MM/YYYY | Q9: € | R9: MM/YYYY | S9: ignore | T9: pivot | U9: Housing category map | V9: Days between PC and Sale
A10: 1 | Q10: =IF(I10="contracted",M10,IF(M10<>"",M10*(1-$M$6),"")) | R10: =IF(O10<>"",EDATE(O10,$N$6),"") | S10: =IFERROR(EOMONTH(R10,-1)+1,"") | T10: =J10&" "&D10 | U10: =IF(D10<>"",VLOOKUP(D10,'Drop downs'!B:C,2,0),"") | V10: =IFERROR(R10-N10,"")
A11: =IF(C10<>0,A10+1,"") | Q11: =IF(I11="contracted",M11,IF(M11<>"",M11*(1-$M$6),"")) | R11: =IF(O11<>"",EDATE(O11,$N$6),"") | S11: =IFERROR(EOMONTH(R11,-1)+1,"") | T11: =J11&" "&D11 | U11: =IF(D11<>"",VLOOKUP(D11,'Drop downs'!B:C,2,0),"") | V11: =IFERROR(R11-N11,"")
A12: =IF(C11<>0,A11+1,"") | Q12: =IF(I12="contracted",M12,IF(M12<>"",M12*(1-$M$6),"")) | R12: =IF(O12<>"",EDATE(O12,$N$6),"") | S12: =IFERROR(EOMONTH(R12,-1)+1,"") | T12: =J12&" "&D12 | U12: =IF(D12<>"",VLOOKUP(D12,'Drop downs'!B:C,2,0),"") | V12: =IFERROR(R12-N12,"")
A13: =IF(C12<>0,A12+1,"") | Q13: =IF(I13="contracted",M13,IF(M13<>"",M13*(1-$M$6),"")) | R13: =IF(O13<>"",EDATE(O13,$N$6),"") | S13: =IFERROR(EOMONTH(R13,-1)+1,"") | T13: =J13&" "&D13 | U13: =IF(D13<>"",VLOOKUP(D13,'Drop downs'!B:C,2,0),"") | V13: =IFERROR(R13-N13,"")
A14: =IF(C13<>0,A13+1,"") | Q14: =IF(I14="contracted",M14,IF(M14<>"",M14*(1-$M$6),"")) | R14: =IF(O14<>"",EDATE(O14,$N$6),"") | S14: =IFERROR(EOMONTH(R14,-1)+1,"") | T14: =J14&" "&D14 | U14: =IF(D14<>"",VLOOKUP(D14,'Drop downs'!B:C,2,0),"") | V14: =IFERROR(R14-N14,"")
A15: =IF(C14<>0,A14+1,"") | Q15: =IF(I15="contracted",M15,IF(M15<>"",M15*(1-$M$6),"")) | R15: =IF(O15<>"",EDATE(O15,$N$6),"") | S15: =IFERROR(EOMONTH(R15,-1)+1,"") | T15: =J15&" "&D15 | U15: =IF(D15<>"",VLOOKUP(D15,'Drop downs'!B:C,2,0),"") | V15: =IFERROR(R15-N15,"")
A16: =IF(C15<>0,A15+1,"") | Q16: =IF(I16="contracted",M16,IF(M16<>"",M16*(1-$M$6),"")) | R16: =IF(O16<>"",EDATE(O16,$N$6),"") | S16: =IFERROR(EOMONTH(R16,-1)+1,"") | T16: =J16&" "&D16 | U16: =IF(D16<>"",VLOOKUP(D16,'Drop downs'!B:C,2,0),"") | V16: =IFERROR(R16-N16,"")
A17: =IF(C16<>0,A16+1,"") | Q17: =IF(I17="contracted",M17,IF(M17<>"",M17*(1-$M$6),"")) | R17: =IF(O17<>"",EDATE(O17,$N$6),"") | S17: =IFERROR(EOMONTH(R17,-1)+1,"") | T17: =J17&" "&D17 | U17: =IF(D17<>"",VLOOKUP(D17,'Drop downs'!B:C,2,0),"") | V17: =IFERROR(R17-N17,"")
A18: =IF(C17<>0,A17+1,"") | Q18: =IF(I18="contracted",M18,IF(M18<>"",M18*(1-$M$6),"")) | R18: =IF(O18<>"",EDATE(O18,$N$6),"") | S18: =IFERROR(EOMONTH(R18,-1)+1,"") | T18: =J18&" "&D18 | U18: =IF(D18<>"",VLOOKUP(D18,'Drop downs'!B:C,2,0),"") | V18: =IFERROR(R18-N18,"")
A19: =IF(C18<>0,A18+1,"") | Q19: =IF(I19="contracted",M19,IF(M19<>"",M19*(1-$M$6),"")) | R19: =IF(O19<>"",EDATE(O19,$N$6),"") | S19: =IFERROR(EOMONTH(R19,-1)+1,"") | T19: =J19&" "&D19 | U19: =IF(D19<>"",VLOOKUP(D19,'Drop downs'!B:C,2,0),"") | V19: =IFERROR(R19-N19,"")
A20: =IF(C19<>0,A19+1,"") | Q20: =IF(I20="contracted",M20,IF(M20<>"",M20*(1-$M$6),"")) | R20: =IF(O20<>"",EDATE(O20,$N$6),"") | S20: =IFERROR(EOMONTH(R20,-1)+1,"") | T20: =J20&" "&D20 | U20: =IF(D20<>"",VLOOKUP(D20,'Drop downs'!B:C,2,0),"") | V20: =IFERROR(R20-N20,"")
A21: =IF(C20<>0,A20+1,"") | Q21: =IF(I21="contracted",M21,IF(M21<>"",M21*(1-$M$6),"")) | R21: =IF(O21<>"",EDATE(O21,$N$6),"") | S21: =IFERROR(EOMONTH(R21,-1)+1,"") | T21: =J21&" "&D21 | U21: =IF(D21<>"",VLOOKUP(D21,'Drop downs'!B:C,2,0),"") | V21: =IFERROR(R21-N21,"")
A22: =IF(C21<>0,A21+1,"") | Q22: =IF(I22="contracted",M22,IF(M22<>"",M22*(1-$M$6),"")) | R22: =IF(O22<>"",EDATE(O22,$N$6),"") | S22: =IFERROR(EOMONTH(R22,-1)+1,"") | T22: =J22&" "&D22 | U22: =IF(D22<>"",VLOOKUP(D22,'Drop downs'!B:C,2,0),"") | V22: =IFERROR(R22-N22,"")
... A1009: =IF(C1008<>0,A1008+1,"") | Q1009: =IF(I1009="contracted",M1009,IF(M1009<>"",M1009*(1-$M$6),"")) | R1009: =IF(O1009<>"",EDATE(O1009,$N$6),"") | S1009: =IFERROR(EOMONTH(R1009,-1)+1,"") | T1009: =J1009&" "&D1009 | U1009: =IF(D1009<>"",VLOOKUP(D1009,'Drop downs'!B:C,2,0),"") | V1009: =IFERROR(R1009-N1009,"")

Sheet Capex
A1: ="Capex: "&Overview!B4 -> Capex:
C2: Property Type 1 | D2: Property Type 2 | E2: Property Type 3 | F2: Property Type 4 | G2: Property Type 5 | H2: Property Type 6 | I2: Property Type 7 | J2: Property Type 8 | K2: Property Type 9 | L2: Property Type 10 | M2: Property Type 11 | N2: Property Type 12 | O2: Property Type 13 | P2: Property Type 14 | Q2: Property Type 15 | R2: Property Type 16 | S2: Property Type 17 | T2: Property Type 18 | U2: Property Type 19 | V2: Property Type 20 | W2: Totals (Avg per unit) | X2: % Total
A3: ='Unit Sales'!O7+1 -> 39 | B3: Unit Category
A4: =A3+1 -> 40 | B4: Unit Type
A5: =A4+1 -> 41 | B5: Site works | W5: =IFERROR(W28/$W$34,0) -> 0 | X5: =IFERROR(W28/$W$13,0) -> 0
A6: =A5+1 -> 42 | B6: Site development costs | W6: =IFERROR(W29/$W$34,0) -> 0 | X6: =IFERROR(W29/$W$13,0) -> 0
A7: =A6+1 -> 43 | B7: Substructure | W7: =IFERROR(W30/$W$34,0) -> 0 | X7: =IFERROR(W30/$W$13,0) -> 0
A8: =A7+1 -> 44 | B8: Superstructure and fit out | W8: =IFERROR(W31/$W$34,0) -> 0 | X8: =IFERROR(W31/$W$13,0) -> 0
A9: =A8+1 -> 45 | B9: Preliminaries | W9: =IFERROR(W32/$W$34,0) -> 0 | X9: =IFERROR(W32/$W$13,0) -> 0
A10: =A9+1 -> 46 | B10: Other construction costs | W10: =IFERROR(W33/$W$34,0) -> 0 | X10: =IFERROR(W33/$W$13,0) -> 0
B11: Total costs per unit | C11: =SUM(C5:C10) -> 0 | D11: =SUM(D5:D10) -> 0 | E11: =SUM(E5:E10) -> 0 | F11: =SUM(F5:F10) -> 0 | G11: =SUM(G5:G10) -> 0 | H11: =SUM(H5:H10) -> 0 | I11: =SUM(I5:I10) -> 0 | J11: =SUM(J5:J10) -> 0 | ... X11: =SUM(X5:X10) -> 0
A12: =A10+1 -> 47 | B12: Number of units | W12: =SUM(C12:V12) -> 0
B13: Total Unit type costs | C13: =IFERROR(C11*C12,0) -> 0 | D13: =IFERROR(D11*D12,0) -> 0 | E13: =IFERROR(E11*E12,0) -> 0 | F13: =IFERROR(F11*F12,0) -> 0 | G13: =IFERROR(G11*G12,0) -> 0 | H13: =IFERROR(H11*H12,0) -> 0 | I13: =IFERROR(I11*I12,0) -> 0 | J13: =IFERROR(J11*J12,0) -> 0 | ... V13: =IFERROR(V11*V12,0) -> 0 | W13: =SUM(C13:V13) -> 0
A14: =A12+1 -> 48 | B14: Sq ft per unit | W14: =IFERROR(W35/$W$34,0) -> 0
B15: Total sq. ft | C15: =C12*C14 -> 0 | D15: =D12*D14 -> 0 | E15: =E12*E14 -> 0 | F15: =F12*F14 -> 0 | G15: =G12*G14 -> 0 | H15: =H12*H14 -> 0 | I15: =I12*I14 -> 0 | J15: =J12*J14 -> 0 | ... V15: =V12*V14 -> 0 | W15: =SUM(C15:V15) -> 0
B16: Total cost € per sq. ft. | C16: =IFERROR(C13/C15,0) -> 0 | D16: =IFERROR(D13/D15,0) -> 0 | E16: =IFERROR(E13/E15,0) -> 0 | F16: =IFERROR(F13/F15,0) -> 0 | G16: =IFERROR(G13/G15,0) -> 0 | H16: =IFERROR(H13/H15,0) -> 0 | I16: =IFERROR(I13/I15,0) -> 0 | J16: =IFERROR(J13/J15,0) -> 0 | ... W16: =IFERROR(W13/W15,0) -> 0
B17: Site works & development costs (€ per sq. ft.) | C17: =IFERROR((C5+C6)/C14,0) -> 0 | D17: =IFERROR((D5+D6)/D14,0) -> 0 | E17: =IFERROR((E5+E6)/E14,0) -> 0 | F17: =IFERROR((F5+F6)/F14,0) -> 0 | G17: =IFERROR((G5+G6)/G14,0) -> 0 | H17: =IFERROR((H5+H6)/H14,0) -> 0 | I17: =IFERROR((I5+I6)/I14,0) -> 0 | J17: =IFERROR((J5+J6)/J14,0) -> 0 | ... V17: =IFERROR((V5+V6)/V14,0) -> 0 | W17: =IFERROR((W28+W29)/W15,0) -> 0
B18: Site works & development costs (per site) | C18: =IFERROR((C28+C29)/C12,0) -> 0 | D18: =IFERROR((D28+D29)/D12,0) -> 0 | E18: =IFERROR((E28+E29)/E12,0) -> 0 | F18: =IFERROR((F28+F29)/F12,0) -> 0 | G18: =IFERROR((G28+G29)/G12,0) -> 0 | H18: =IFERROR((H28+H29)/H12,0) -> 0 | I18: =IFERROR((I28+I29)/I12,0) -> 0 | J18: =IFERROR((J28+J29)/J12,0) -> 0 | ... W18: =IFERROR((W28+W29)/W12,0) -> 0
B19: Build Cost (incl. Preliminaries) (% costs) | C19: =IFERROR((C7+C8+C9)/C11,0) -> 0 | D19: =IFERROR((D7+D8+D9)/D11,0) -> 0 | E19: =IFERROR((E7+E8+E9)/E11,0) -> 0 | F19: =IFERROR((F7+F8+F9)/F11,0) -> 0 | G19: =IFERROR((G7+G8+G9)/G11,0) -> 0 | H19: =IFERROR((H7+H8+H9)/H11,0) -> 0 | I19: =IFERROR((I7+I8+I9)/I11,0) -> 0 | J19: =IFERROR((J7+J8+J9)/J11,0) -> 0 | ... V19: =IFERROR((V7+V8+V9)/V11,0) -> 0 | W19: =IFERROR((W31+W32+W30)/W13,0) -> 0
B20: Build Cost (incl. Preliminaries) (€ per sq. ft.) | C20: =IFERROR((C8+C9+C7)/C14,0) -> 0 | D20: =IFERROR((D8+D9+D7)/D14,0) -> 0 | E20: =IFERROR((E8+E9+E7)/E14,0) -> 0 | F20: =IFERROR((F8+F9+F7)/F14,0) -> 0 | G20: =IFERROR((G8+G9+G7)/G14,0) -> 0 | H20: =IFERROR((H8+H9+H7)/H14,0) -> 0 | I20: =IFERROR((I8+I9+I7)/I14,0) -> 0 | J20: =IFERROR((J8+J9+J7)/J14,0) -> 0 | ... V20: =IFERROR((V8+V9+V7)/V14,0) -> 0 | W20: =IFERROR((W31+W32+W30)/W15,0) -> 0
B21: Build Cost (excl. Preliminaries) (% costs) | C21: =IFERROR((C7+C8)/C11,0) -> 0 | D21: =IFERROR((D7+D8)/D11,0) -> 0 | E21: =IFERROR((E7+E8)/E11,0) -> 0 | F21: =IFERROR((F7+F8)/F11,0) -> 0 | G21: =IFERROR((G7+G8)/G11,0) -> 0 | H21: =IFERROR((H7+H8)/H11,0) -> 0 | I21: =IFERROR((I7+I8)/I11,0) -> 0 | J21: =IFERROR((J7+J8)/J11,0) -> 0 | ... L21: =IFERROR((L7+L8)/L11,0) -> 0 | M21: =IFERROR((M9+M10+M11)/M13,0) -> 0 | N21: =IFERROR((N9+N10+N11)/N13,0) -> 0 | O21: =IFERROR((O9+O10+O11)/O13,0) -> 0 | P21: =IFERROR((P9+P10+P11)/P13,0) -> 0 | Q21: =IFERROR((Q9+Q10+Q11)/Q13,0) -> 0 | R21: =IFERROR((R9+R10+R11)/R13,0) -> 0 | S21: =IFERROR((S9+S10+S11)/S13,0) -> 0 | T21: =IFERROR((T9+T10+T11)/T13,0) -> 0 | ... V21: =IFERROR((V9+V10+V11)/V13,0) -> 0 | W21: =IFERROR((W31+W30)/W13,0) -> 0
B22: Build Cost (excl. Preliminaries) (€ per sq. ft.) | C22: =IFERROR((C8+C7)/C14,0) -> 0 | D22: =IFERROR((D8+D7)/D14,0) -> 0 | E22: =IFERROR((E8+E7)/E14,0) -> 0 | F22: =IFERROR((F8+F7)/F14,0) -> 0 | G22: =IFERROR((G8+G7)/G14,0) -> 0 | H22: =IFERROR((H8+H7)/H14,0) -> 0 | I22: =IFERROR((I8+I7)/I14,0) -> 0 | J22: =IFERROR((J8+J7)/J14,0) -> 0 | ... L22: =IFERROR((L8+L7)/L14,0) -> 0 | M22: =IFERROR((M10+M11+M9)/M16,0) -> 0 | N22: =IFERROR((N10+N11+N9)/N16,0) -> 0 | O22: =IFERROR((O10+O11+O9)/O16,0) -> 0 | P22: =IFERROR((P10+P11+P9)/P16,0) -> 0 | Q22: =IFERROR((Q10+Q11+Q9)/Q16,0) -> 0 | R22: =IFERROR((R10+R11+R9)/R16,0) -> 0 | S22: =IFERROR((S10+S11+S9)/S16,0) -> 0 | T22: =IFERROR((T10+T11+T9)/T16,0) -> 0 | ... V22: =IFERROR((V10+V11+V9)/V16,0) -> 0 | W22: =IFERROR((W31+W30)/W15,0) -> 0
B23: Design Team Fees (% costs) | W23: =IFERROR(SUM('Monthly cashflow'!D63:D70)/W13,0) -> 0
B24: Design Team Fees (per unit) | W24: =IFERROR(SUM('Monthly cashflow'!D63:D70)/W12,0) -> 0
C27: Property Type 1 | D27: Property Type 2 | E27: Property Type 3 | F27: Property Type 4 | G27: Property Type 5 | H27: Property Type 6 | I27: Property Type 7 | J27: Property Type 8 | K27: Property Type 9 | L27: Property Type 10 | M27: Property Type 11 | N27: Property Type 12 | O27: Property Type 13 | P27: Property Type 14 | Q27: Property Type 15 | R27: Property Type 16 | S27: Property Type 17 | T27: Property Type 18 | U27: Property Type 19 | V27: Property Type 20 | W27: Totals | Y27: Comment | AA27: Per cashflow | AB27: Variance
B28: Site works | C28: =C5*C$34 -> 0 | D28: =D5*D$34 -> 0 | E28: =E5*E$34 -> 0 | F28: =F5*F$34 -> 0 | G28: =G5*G$34 -> 0 | H28: =H5*H$34 -> 0 | I28: =I5*I$34 -> 0 | J28: =J5*J$34 -> 0 | ... V28: =V5*V$34 -> 0 | W28: =SUM(C28:V28) -> 0 | Y28: =IF(W28='Monthly cashflow'!D41,"Matches cashflow","Does not match cashflow") -> Matches cashflow | AA28: ='Monthly cashflow'!D41 -> 0 | AB28: =AA28-W28 -> 0
B29: site development costs | C29: =C6*C$34 -> 0 | D29: =D6*D$34 -> 0 | E29: =E6*E$34 -> 0 | F29: =F6*F$34 -> 0 | G29: =G6*G$34 -> 0 | H29: =H6*H$34 -> 0 | I29: =I6*I$34 -> 0 | J29: =J6*J$34 -> 0 | ... V29: =V6*V$34 -> 0 | W29: =SUM(C29:V29) -> 0 | Y29: =IF(W29='Monthly cashflow'!D42,"Matches cashflow","Does not match cashflow") -> Matches cashflow | AA29: ='Monthly cashflow'!D42 -> 0 | AB29: =AA29-W29 -> 0
B30: Substructure | C30: =C7*C$34 -> 0 | D30: =D7*D$34 -> 0 | E30: =E7*E$34 -> 0 | F30: =F7*F$34 -> 0 | G30: =G7*G$34 -> 0 | H30: =H7*H$34 -> 0 | I30: =I7*I$34 -> 0 | J30: =J7*J$34 -> 0 | ... V30: =V7*V$34 -> 0 | W30: =SUM(C30:V30) -> 0 | Y30: =IF(W30='Monthly cashflow'!D43,"Matches cashflow","Does not match cashflow") -> Matches cashflow | AA30: ='Monthly cashflow'!D43 -> 0 | AB30: =AA30-W30 -> 0
B31: Superstructure and fit out | C31: =C8*C$34 -> 0 | D31: =D8*D$34 -> 0 | E31: =E8*E$34 -> 0 | F31: =F8*F$34 -> 0 | G31: =G8*G$34 -> 0 | H31: =H8*H$34 -> 0 | I31: =I8*I$34 -> 0 | J31: =J8*J$34 -> 0 | ... V31: =V8*V$34 -> 0 | W31: =SUM(C31:V31) -> 0 | Y31: =IF(W31='Monthly cashflow'!D44,"Matches cashflow","Does not match cashflow") -> Matches cashflow | AA31: ='Monthly cashflow'!D44 -> 0 | AB31: =AA31-W31 -> 0
B32: Preliminaries | C32: =C9*C$34 -> 0 | D32: =D9*D$34 -> 0 | E32: =E9*E$34 -> 0 | F32: =F9*F$34 -> 0 | G32: =G9*G$34 -> 0 | H32: =H9*H$34 -> 0 | I32: =I9*I$34 -> 0 | J32: =J9*J$34 -> 0 | ... V32: =V9*V$34 -> 0 | W32: =SUM(C32:V32) -> 0 | Y32: =IF(W32='Monthly cashflow'!D45,"Matches cashflow","Does not match cashflow") -> Matches cashflow | AA32: ='Monthly cashflow'!D45 -> 0 | AB32: =AA32-W32 -> 0
B33: Other construction costs | C33: =C10*C$34 -> 0 | D33: =D10*D$34 -> 0 | E33: =E10*E$34 -> 0 | F33: =F10*F$34 -> 0 | G33: =G10*G$34 -> 0 | H33: =H10*H$34 -> 0 | I33: =I10*I$34 -> 0 | J33: =J10*J$34 -> 0 | ... V33: =V10*V$34 -> 0 | W33: =SUM(C33:V33) -> 0 | Y33: =IF(W33='Monthly cashflow'!D46,"Matches cashflow","Does not match cashflow") -> Matches cashflow | AA33: ='Monthly cashflow'!D46 -> 0 | AB33: =AA33-W33 -> 0
B34: Number of units | C34: =C12 -> 0 | D34: =D12 -> 0 | E34: =E12 -> 0 | F34: =F12 -> 0 | G34: =G12 -> 0 | H34: =H12 -> 0 | I34: =I12 -> 0 | J34: =J12 -> 0 | ... V34: =V12 -> 0 | W34: =SUM(C34:V34) -> 0
B35: Total Sq ft per unit | C35: =C14*C$34 -> 0 | D35: =D14*D$34 -> 0 | E35: =E14*E$34 -> 0 | F35: =F14*F$34 -> 0 | G35: =G14*G$34 -> 0 | H35: =H14*H$34 -> 0 | I35: =I14*I$34 -> 0 | J35: =J14*J$34 -> 0 | ... V35: =V14*V$34 -> 0 | W35: =SUM(C35:V35) -> 0

Sheet Monthly cashflow
E1: Month 1 | F1: Month 2 | G1: Month 3 | H1: Month 4 | I1: Month 5 | J1: Month 6 | K1: Month 7 | L1: Month 8 | M1: Month 9 | N1: Month 10 | O1: Month 11 | P1: Month 12 | Q1: Month 13 | R1: Month 14 | S1: Month 15 | T1: Month 16 | U1: Month 17 | V1: Month 18 | W1: Month 19 | X1: Month 20 | Y1: Month 21 | Z1: Month 22 | AA1: Month 23 | AB1: Month 24 | AC1: Month 25 | AD1: Month 26 | AE1: Month 27 | AF1: Month 28 | AG1: Month 29 | AH1: Month 30 | AI1: Month 31 | AJ1: Month 32 | AK1: Month 33 | AL1: Month 34 | AM1: Month 35 | AN1: Month 36 | AO1: Month 37 | AP1: Month 38 | AQ1: Month 39 | AR1: Month 40 | AS1: Month 41 | AT1: Month 42 | AU1: Month 43 | AV1: Month 44 | AW1: Month 45 | AX1: Month 46 | AY1: Month 47 | AZ1: Month 48 | BA1: Month 49 | BB1: Month 50 | BC1: Month 51 | BD1: Month 52 | BE1: Month 53 | BF1: Month 54 | BG1: Month 55 | BH1: Month 56 | BI1: Month 57 | BJ1: Month 58 | BK1: Month 59 | BL1: Month 60 | BM1: Month 61 | BN1: Month 62 | BO1: Month 63 | BP1: Month 64 | BQ1: Month 65 | BR1: Month 66 | BS1: Month 67 | BT1: Month 68 | BU1: Month 69 | BV1: Month 70 | BW1: Month 71 | BX1: Month 72 | BY1: Month 73 | BZ1: Month 74 | CA1: Month 75 | CB1: Month 76 | CC1: Month 77 | CD1: Month 78 | CE1: Month 79 | CF1: Month 80 | CG1: Month 81 | CH1: Month 82 | CI1: Month 83 | CJ1: Month 84 | CK1: Month 85 | CL1: Month 86 | CM1: Month 87 | CN1: Month 88 | CO1: Month 89 | CP1: Month 90 | CQ1: Month 91 | CR1: Month 92 | CS1: Month 93 | CT1: Month 94 | CU1: Month 95 | CV1: Month 96 | CW1: Month 97 | CX1: Month 98 | CY1: Month 99 | CZ1: Month 100 | DA1: Month 101 | DB1: Month 102 | DC1: Month 103 | DD1: Month 104 | DE1: Month 105 | DF1: Month 106 | DG1: Month 107 | DH1: Month 108 | DI1: Month 109 | DJ1: Month 110 | DK1: Month 111 | DL1: Month 112 | DM1: Month 113 | DN1: Month 114 | DO1: Month 115 | DP1: Month 116 | DQ1: Month 117 | DR1: Month 118 | DS1: Month 119 | DT1: Month 120
E2: -1 | F2: 0 | G2: 1 | H2: 2 | I2: 3 | J2: 4 | K2: 5 | L2: 6 | M2: 7 | N2: 8 | O2: 9 | P2: 10 | Q2: 11 | R2: 12 | S2: 13 | T2: 14 | U2: 15 | V2: 16 | W2: 17 | X2: 18 | Y2: 19 | Z2: 20 | AA2: 21 | AB2: 22 | AC2: 23 | AD2: 24 | AE2: 25 | AF2: 26 | AG2: 27 | AH2: 28 | AI2: 29 | AJ2: 30 | AK2: 31 | AL2: 32 | AM2: 33 | AN2: 34 | AO2: 35 | AP2: 36 | AQ2: 37 | AR2: 38 | AS2: 39 | AT2: 40 | AU2: 41 | AV2: 42 | AW2: 43 | AX2: 44 | AY2: 45 | AZ2: 46 | BA2: 47 | BB2: 48 | BC2: 49 | BD2: 50 | BE2: 51 | BF2: 52 | BG2: 53 | BH2: 54 | BI2: 55 | BJ2: 56 | BK2: 57 | BL2: 58 | BM2: 59 | BN2: 60 | BO2: 61 | BP2: 62 | BQ2: 63 | BR2: 64 | BS2: 65 | BT2: 66 | BU2: 67 | BV2: 68 | BW2: 69 | BX2: 70 | BY2: 71 | BZ2: 72 | CA2: 73 | CB2: 74 | CC2: 75 | CD2: 76 | CE2: 77 | CF2: 78 | CG2: 79 | CH2: 80 | CI2: 81 | CJ2: 82 | CK2: 83 | CL2: 84 | CM2: 85 | CN2: 86 | CO2: 87 | CP2: 88 | CQ2: 89 | CR2: 90 | CS2: 91 | CT2: 92 | CU2: 93 | CV2: 94 | CW2: 95 | CX2: 96 | CY2: 97 | CZ2: 98 | DA2: 99 | DB2: 100 | DC2: 101 | DD2: 102 | DE2: 103 | DF2: 104 | DG2: 105 | DH2: 106 | DI2: 107 | DJ2: 108 | DK2: 109 | DL2: 110 | DM2: 111 | DN2: 112 | DO2: 113 | DP2: 114 | DQ2: 115 | DR2: 116 | DS2: 117 | DT2: 118 | DU2: 119
B3: Revenue (Populate in Unit sales tab) | D3: Totals | E3: =IF(Overview!$B$12<>0,EOMONTH(Overview!$B$12,E2)+1,"") | F3: =IF(Overview!$B$12<>0,EOMONTH(Overview!$B$12,F2)+1,"") | G3: =IF(Overview!$B$12<>0,EOMONTH(Overview!$B$12,G2)+1,"") | H3: =IF(Overview!$B$12<>0,EOMONTH(Overview!$B$12,H2)+1,"") | I3: =IF(Overview!$B$12<>0,EOMONTH(Overview!$B$12,I2)+1,"") | J3: =IF(Overview!$B$12<>0,EOMONTH(Overview!$B$12,J2)+1,"") | K3: =IF(Overview!$B$12<>0,EOMONTH(Overview!$B$12,K2)+1,"") | L3: =IF(Overview!$B$12<>0,EOMONTH(Overview!$B$12,L2)+1,"") | ... DU3: =IF(Overview!$B$12<>0,EOMONTH(Overview!$B$12,DU2)+1,"")
B4: House | C4: Phase 1 | D4: =SUM(E4:DT4) -> 0 | E4: =SUMIFS('Unit Sales'!$Q:$Q,'Unit Sales'!$U:$U,'Monthly cashflow'!$B$4,'Unit Sales'!$C:$C,'Monthly cashflow'!$C4,'Unit Sales'!$S:$S,'Monthly cashflow'!E$3) -> 0 | F4: =SUMIFS('Unit Sales'!$Q:$Q,'Unit Sales'!$U:$U,'Monthly cashflow'!$B$4,'Unit Sales'!$C:$C,'Monthly cashflow'!$C4,'Unit Sales'!$S:$S,'Monthly cashflow'!F$3) -> 0 | G4: =SUMIFS('Unit Sales'!$Q:$Q,'Unit Sales'!$U:$U,'Monthly cashflow'!$B$4,'Unit Sales'!$C:$C,'Monthly cashflow'!$C4,'Unit Sales'!$S:$S,'Monthly cashflow'!G$3) -> 0 | H4: =SUMIFS('Unit Sales'!$Q:$Q,'Unit Sales'!$U:$U,'Monthly cashflow'!$B$4,'Unit Sales'!$C:$C,'Monthly cashflow'!$C4,'Unit Sales'!$S:$S,'Monthly cashflow'!H$3) -> 0 | I4: =SUMIFS('Unit Sales'!$Q:$Q,'Unit Sales'!$U:$U,'Monthly cashflow'!$B$4,'Unit Sales'!$C:$C,'Monthly cashflow'!$C4,'Unit Sales'!$S:$S,'Monthly cashflow'!I$3) -> 0 | J4: =SUMIFS('Unit Sales'!$Q:$Q,'Unit Sales'!$U:$U,'Monthly cashflow'!$B$4,'Unit Sales'!$C:$C,'Monthly cashflow'!$C4,'Unit Sales'!$S:$S,'Monthly cashflow'!J$3) -> 0 | K4: =SUMIFS('Unit Sales'!$Q:$Q,'Unit Sales'!$U:$U,'Monthly cashflow'!$B$4,'Unit Sales'!$C:$C,'Monthly cashflow'!$C4,'Unit Sales'!$S:$S,'Monthly cashflow'!K$3) -> 0 | L4: =SUMIFS('Unit Sales'!$Q:$Q,'Unit Sales'!$U:$U,'Monthly cashflow'!$B$4,'Unit Sales'!$C:$C,'Monthly cashflow'!$C4,'Unit Sales'!$S:$S,'Monthly cashflow'!L$3) -> 0 | ... DT4: =SUMIFS('Unit Sales'!$Q:$Q,'Unit Sales'!$U:$U,'Monthly cashflow'!$B$4,'Unit Sales'!$C:$C,'Monthly cashflow'!$C4,'Unit Sales'!$S:$S,'Monthly cashflow'!DT$3) -> 0
C5: Phase 2 | D5: =SUM(E5:DT5) -> 0 | E5: =SUMIFS('Unit Sales'!$Q:$Q,'Unit Sales'!$U:$U,'Monthly cashflow'!$B$4,'Unit Sales'!$C:$C,'Monthly cashflow'!$C5,'Unit Sales'!$S:$S,'Monthly cashflow'!E$3) -> 0 | F5: =SUMIFS('Unit Sales'!$Q:$Q,'Unit Sales'!$U:$U,'Monthly cashflow'!$B$4,'Unit Sales'!$C:$C,'Monthly cashflow'!$C5,'Unit Sales'!$S:$S,'Monthly cashflow'!F$3) -> 0 | G5: =SUMIFS('Unit Sales'!$Q:$Q,'Unit Sales'!$U:$U,'Monthly cashflow'!$B$4,'Unit Sales'!$C:$C,'Monthly cashflow'!$C5,'Unit Sales'!$S:$S,'Monthly cashflow'!G$3) -> 0 | H5: =SUMIFS('Unit Sales'!$Q:$Q,'Unit Sales'!$U:$U,'Monthly cashflow'!$B$4,'Unit Sales'!$C:$C,'Monthly cashflow'!$C5,'Unit Sales'!$S:$S,'Monthly cashflow'!H$3) -> 0 | I5: =SUMIFS('Unit Sales'!$Q:$Q,'Unit Sales'!$U:$U,'Monthly cashflow'!$B$4,'Unit Sales'!$C:$C,'Monthly cashflow'!$C5,'Unit Sales'!$S:$S,'Monthly cashflow'!I$3) -> 0 | J5: =SUMIFS('Unit Sales'!$Q:$Q,'Unit Sales'!$U:$U,'Monthly cashflow'!$B$4,'Unit Sales'!$C:$C,'Monthly cashflow'!$C5,'Unit Sales'!$S:$S,'Monthly cashflow'!J$3) -> 0 | K5: =SUMIFS('Unit Sales'!$Q:$Q,'Unit Sales'!$U:$U,'Monthly cashflow'!$B$4,'Unit Sales'!$C:$C,'Monthly cashflow'!$C5,'Unit Sales'!$S:$S,'Monthly cashflow'!K$3) -> 0 | L5: =SUMIFS('Unit Sales'!$Q:$Q,'Unit Sales'!$U:$U,'Monthly cashflow'!$B$4,'Unit Sales'!$C:$C,'Monthly cashflow'!$C5,'Unit Sales'!$S:$S,'Monthly cashflow'!L$3) -> 0 | ... DT5: =SUMIFS('Unit Sales'!$Q:$Q,'Unit Sales'!$U:$U,'Monthly cashflow'!$B$4,'Unit Sales'!$C:$C,'Monthly cashflow'!$C5,'Unit Sales'!$S:$S,'Monthly cashflow'!DT$3) -> 0
C6: Phase 3 | D6: =SUM(E6:DT6) -> 0 | E6: =SUMIFS('Unit Sales'!$Q:$Q,'Unit Sales'!$U:$U,'Monthly cashflow'!$B$4,'Unit Sales'!$C:$C,'Monthly cashflow'!$C6,'Unit Sales'!$S:$S,'Monthly cashflow'!E$3) -> 0 | F6: =SUMIFS('Unit Sales'!$Q:$Q,'Unit Sales'!$U:$U,'Monthly cashflow'!$B$4,'Unit Sales'!$C:$C,'Monthly cashflow'!$C6,'Unit Sales'!$S:$S,'Monthly cashflow'!F$3) -> 0 | G6: =SUMIFS('Unit Sales'!$Q:$Q,'Unit Sales'!$U:$U,'Monthly cashflow'!$B$4,'Unit Sales'!$C:$C,'Monthly cashflow'!$C6,'Unit Sales'!$S:$S,'Monthly cashflow'!G$3) -> 0 | H6: =SUMIFS('Unit Sales'!$Q:$Q,'Unit Sales'!$U:$U,'Monthly cashflow'!$B$4,'Unit Sales'!$C:$C,'Monthly cashflow'!$C6,'Unit Sales'!$S:$S,'Monthly cashflow'!H$3) -> 0 | I6: =SUMIFS('Unit Sales'!$Q:$Q,'Unit Sales'!$U:$U,'Monthly cashflow'!$B$4,'Unit Sales'!$C:$C,'Monthly cashflow'!$C6,'Unit Sales'!$S:$S,'Monthly cashflow'!I$3) -> 0 | J6: =SUMIFS('Unit Sales'!$Q:$Q,'Unit Sales'!$U:$U,'Monthly cashflow'!$B$4,'Unit Sales'!$C:$C,'Monthly cashflow'!$C6,'Unit Sales'!$S:$S,'Monthly cashflow'!J$3) -> 0 | K6: =SUMIFS('Unit Sales'!$Q:$Q,'Unit Sales'!$U:$U,'Monthly cashflow'!$B$4,'Unit Sales'!$C:$C,'Monthly cashflow'!$C6,'Unit Sales'!$S:$S,'Monthly cashflow'!K$3) -> 0 | L6: =SUMIFS('Unit Sales'!$Q:$Q,'Unit Sales'!$U:$U,'Monthly cashflow'!$B$4,'Unit Sales'!$C:$C,'Monthly cashflow'!$C6,'Unit Sales'!$S:$S,'Monthly cashflow'!L$3) -> 0 | ... DT6: =SUMIFS('Unit Sales'!$Q:$Q,'Unit Sales'!$U:$U,'Monthly cashflow'!$B$4,'Unit Sales'!$C:$C,'Monthly cashflow'!$C6,'Unit Sales'!$S:$S,'Monthly cashflow'!DT$3) -> 0
C7: Phase 4 | D7: =SUM(E7:DT7) -> 0 | E7: =SUMIFS('Unit Sales'!$Q:$Q,'Unit Sales'!$U:$U,'Monthly cashflow'!$B$4,'Unit Sales'!$C:$C,'Monthly cashflow'!$C7,'Unit Sales'!$S:$S,'Monthly cashflow'!E$3) -> 0 | F7: =SUMIFS('Unit Sales'!$Q:$Q,'Unit Sales'!$U:$U,'Monthly cashflow'!$B$4,'Unit Sales'!$C:$C,'Monthly cashflow'!$C7,'Unit Sales'!$S:$S,'Monthly cashflow'!F$3) -> 0 | G7: =SUMIFS('Unit Sales'!$Q:$Q,'Unit Sales'!$U:$U,'Monthly cashflow'!$B$4,'Unit Sales'!$C:$C,'Monthly cashflow'!$C7,'Unit Sales'!$S:$S,'Monthly cashflow'!G$3) -> 0 | H7: =SUMIFS('Unit Sales'!$Q:$Q,'Unit Sales'!$U:$U,'Monthly cashflow'!$B$4,'Unit Sales'!$C:$C,'Monthly cashflow'!$C7,'Unit Sales'!$S:$S,'Monthly cashflow'!H$3) -> 0 | I7: =SUMIFS('Unit Sales'!$Q:$Q,'Unit Sales'!$U:$U,'Monthly cashflow'!$B$4,'Unit Sales'!$C:$C,'Monthly cashflow'!$C7,'Unit Sales'!$S:$S,'Monthly cashflow'!I$3) -> 0 | J7: =SUMIFS('Unit Sales'!$Q:$Q,'Unit Sales'!$U:$U,'Monthly cashflow'!$B$4,'Unit Sales'!$C:$C,'Monthly cashflow'!$C7,'Unit Sales'!$S:$S,'Monthly cashflow'!J$3) -> 0 | K7: =SUMIFS('Unit Sales'!$Q:$Q,'Unit Sales'!$U:$U,'Monthly cashflow'!$B$4,'Unit Sales'!$C:$C,'Monthly cashflow'!$C7,'Unit Sales'!$S:$S,'Monthly cashflow'!K$3) -> 0 | L7: =SUMIFS('Unit Sales'!$Q:$Q,'Unit Sales'!$U:$U,'Monthly cashflow'!$B$4,'Unit Sales'!$C:$C,'Monthly cashflow'!$C7,'Unit Sales'!$S:$S,'Monthly cashflow'!L$3) -> 0 | ... DT7: =SUMIFS('Unit Sales'!$Q:$Q,'Unit Sales'!$U:$U,'Monthly cashflow'!$B$4,'Unit Sales'!$C:$C,'Monthly cashflow'!$C7,'Unit Sales'!$S:$S,'Monthly cashflow'!DT$3) -> 0
C8: Phase 5 | D8: =SUM(E8:DT8) -> 0 | E8: =SUMIFS('Unit Sales'!$Q:$Q,'Unit Sales'!$U:$U,'Monthly cashflow'!$B$4,'Unit Sales'!$C:$C,'Monthly cashflow'!$C8,'Unit Sales'!$S:$S,'Monthly cashflow'!E$3) -> 0 | F8: =SUMIFS('Unit Sales'!$Q:$Q,'Unit Sales'!$U:$U,'Monthly cashflow'!$B$4,'Unit Sales'!$C:$C,'Monthly cashflow'!$C8,'Unit Sales'!$S:$S,'Monthly cashflow'!F$3) -> 0 | G8: =SUMIFS('Unit Sales'!$Q:$Q,'Unit Sales'!$U:$U,'Monthly cashflow'!$B$4,'Unit Sales'!$C:$C,'Monthly cashflow'!$C8,'Unit Sales'!$S:$S,'Monthly cashflow'!G$3) -> 0 | H8: =SUMIFS('Unit Sales'!$Q:$Q,'Unit Sales'!$U:$U,'Monthly cashflow'!$B$4,'Unit Sales'!$C:$C,'Monthly cashflow'!$C8,'Unit Sales'!$S:$S,'Monthly cashflow'!H$3) -> 0 | I8: =SUMIFS('Unit Sales'!$Q:$Q,'Unit Sales'!$U:$U,'Monthly cashflow'!$B$4,'Unit Sales'!$C:$C,'Monthly cashflow'!$C8,'Unit Sales'!$S:$S,'Monthly cashflow'!I$3) -> 0 | J8: =SUMIFS('Unit Sales'!$Q:$Q,'Unit Sales'!$U:$U,'Monthly cashflow'!$B$4,'Unit Sales'!$C:$C,'Monthly cashflow'!$C8,'Unit Sales'!$S:$S,'Monthly cashflow'!J$3) -> 0 | K8: =SUMIFS('Unit Sales'!$Q:$Q,'Unit Sales'!$U:$U,'Monthly cashflow'!$B$4,'Unit Sales'!$C:$C,'Monthly cashflow'!$C8,'Unit Sales'!$S:$S,'Monthly cashflow'!K$3) -> 0 | L8: =SUMIFS('Unit Sales'!$Q:$Q,'Unit Sales'!$U:$U,'Monthly cashflow'!$B$4,'Unit Sales'!$C:$C,'Monthly cashflow'!$C8,'Unit Sales'!$S:$S,'Monthly cashflow'!L$3) -> 0 | ... DT8: =SUMIFS('Unit Sales'!$Q:$Q,'Unit Sales'!$U:$U,'Monthly cashflow'!$B$4,'Unit Sales'!$C:$C,'Monthly cashflow'!$C8,'Unit Sales'!$S:$S,'Monthly cashflow'!DT$3) -> 0
C9: Phase 6 | D9: =SUM(E9:DT9) -> 0 | E9: =SUMIFS('Unit Sales'!$Q:$Q,'Unit Sales'!$U:$U,'Monthly cashflow'!$B$4,'Unit Sales'!$C:$C,'Monthly cashflow'!$C9,'Unit Sales'!$S:$S,'Monthly cashflow'!E$3) -> 0 | F9: =SUMIFS('Unit Sales'!$Q:$Q,'Unit Sales'!$U:$U,'Monthly cashflow'!$B$4,'Unit Sales'!$C:$C,'Monthly cashflow'!$C9,'Unit Sales'!$S:$S,'Monthly cashflow'!F$3) -> 0 | G9: =SUMIFS('Unit Sales'!$Q:$Q,'Unit Sales'!$U:$U,'Monthly cashflow'!$B$4,'Unit Sales'!$C:$C,'Monthly cashflow'!$C9,'Unit Sales'!$S:$S,'Monthly cashflow'!G$3) -> 0 | H9: =SUMIFS('Unit Sales'!$Q:$Q,'Unit Sales'!$U:$U,'Monthly cashflow'!$B$4,'Unit Sales'!$C:$C,'Monthly cashflow'!$C9,'Unit Sales'!$S:$S,'Monthly cashflow'!H$3) -> 0 | I9: =SUMIFS('Unit Sales'!$Q:$Q,'Unit Sales'!$U:$U,'Monthly cashflow'!$B$4,'Unit Sales'!$C:$C,'Monthly cashflow'!$C9,'Unit Sales'!$S:$S,'Monthly cashflow'!I$3) -> 0 | J9: =SUMIFS('Unit Sales'!$Q:$Q,'Unit Sales'!$U:$U,'Monthly cashflow'!$B$4,'Unit Sales'!$C:$C,'Monthly cashflow'!$C9,'Unit Sales'!$S:$S,'Monthly cashflow'!J$3) -> 0 | K9: =SUMIFS('Unit Sales'!$Q:$Q,'Unit Sales'!$U:$U,'Monthly cashflow'!$B$4,'Unit Sales'!$C:$C,'Monthly cashflow'!$C9,'Unit Sales'!$S:$S,'Monthly cashflow'!K$3) -> 0 | L9: =SUMIFS('Unit Sales'!$Q:$Q,'Unit Sales'!$U:$U,'Monthly cashflow'!$B$4,'Unit Sales'!$C:$C,'Monthly cashflow'!$C9,'Unit Sales'!$S:$S,'Monthly cashflow'!L$3) -> 0 | ... DT9: =SUMIFS('Unit Sales'!$Q:$Q,'Unit Sales'!$U:$U,'Monthly cashflow'!$B$4,'Unit Sales'!$C:$C,'Monthly cashflow'!$C9,'Unit Sales'!$S:$S,'Monthly cashflow'!DT$3) -> 0
C10: Phase 7 | D10: =SUM(E10:DT10) -> 0 | E10: =SUMIFS('Unit Sales'!$Q:$Q,'Unit Sales'!$U:$U,'Monthly cashflow'!$B$4,'Unit Sales'!$C:$C,'Monthly cashflow'!$C10,'Unit Sales'!$S:$S,'Monthly cashflow'!E$3) -> 0 | F10: =SUMIFS('Unit Sales'!$Q:$Q,'Unit Sales'!$U:$U,'Monthly cashflow'!$B$4,'Unit Sales'!$C:$C,'Monthly cashflow'!$C10,'Unit Sales'!$S:$S,'Monthly cashflow'!F$3) -> 0 | G10: =SUMIFS('Unit Sales'!$Q:$Q,'Unit Sales'!$U:$U,'Monthly cashflow'!$B$4,'Unit Sales'!$C:$C,'Monthly cashflow'!$C10,'Unit Sales'!$S:$S,'Monthly cashflow'!G$3) -> 0 | H10: =SUMIFS('Unit Sales'!$Q:$Q,'Unit Sales'!$U:$U,'Monthly cashflow'!$B$4,'Unit Sales'!$C:$C,'Monthly cashflow'!$C10,'Unit Sales'!$S:$S,'Monthly cashflow'!H$3) -> 0 | I10: =SUMIFS('Unit Sales'!$Q:$Q,'Unit Sales'!$U:$U,'Monthly cashflow'!$B$4,'Unit Sales'!$C:$C,'Monthly cashflow'!$C10,'Unit Sales'!$S:$S,'Monthly cashflow'!I$3) -> 0 | J10: =SUMIFS('Unit Sales'!$Q:$Q,'Unit Sales'!$U:$U,'Monthly cashflow'!$B$4,'Unit Sales'!$C:$C,'Monthly cashflow'!$C10,'Unit Sales'!$S:$S,'Monthly cashflow'!J$3) -> 0 | K10: =SUMIFS('Unit Sales'!$Q:$Q,'Unit Sales'!$U:$U,'Monthly cashflow'!$B$4,'Unit Sales'!$C:$C,'Monthly cashflow'!$C10,'Unit Sales'!$S:$S,'Monthly cashflow'!K$3) -> 0 | L10: =SUMIFS('Unit Sales'!$Q:$Q,'Unit Sales'!$U:$U,'Monthly cashflow'!$B$4,'Unit Sales'!$C:$C,'Monthly cashflow'!$C10,'Unit Sales'!$S:$S,'Monthly cashflow'!L$3) -> 0 | ... DT10: =SUMIFS('Unit Sales'!$Q:$Q,'Unit Sales'!$U:$U,'Monthly cashflow'!$B$4,'Unit Sales'!$C:$C,'Monthly cashflow'!$C10,'Unit Sales'!$S:$S,'Monthly cashflow'!DT$3) -> 0
C11: Phase 8 | D11: =SUM(E11:DT11) -> 0 | E11: =SUMIFS('Unit Sales'!$Q:$Q,'Unit Sales'!$U:$U,'Monthly cashflow'!$B$4,'Unit Sales'!$C:$C,'Monthly cashflow'!$C11,'Unit Sales'!$S:$S,'Monthly cashflow'!E$3) -> 0 | F11: =SUMIFS('Unit Sales'!$Q:$Q,'Unit Sales'!$U:$U,'Monthly cashflow'!$B$4,'Unit Sales'!$C:$C,'Monthly cashflow'!$C11,'Unit Sales'!$S:$S,'Monthly cashflow'!F$3) -> 0 | G11: =SUMIFS('Unit Sales'!$Q:$Q,'Unit Sales'!$U:$U,'Monthly cashflow'!$B$4,'Unit Sales'!$C:$C,'Monthly cashflow'!$C11,'Unit Sales'!$S:$S,'Monthly cashflow'!G$3) -> 0 | H11: =SUMIFS('Unit Sales'!$Q:$Q,'Unit Sales'!$U:$U,'Monthly cashflow'!$B$4,'Unit Sales'!$C:$C,'Monthly cashflow'!$C11,'Unit Sales'!$S:$S,'Monthly cashflow'!H$3) -> 0 | I11: =SUMIFS('Unit Sales'!$Q:$Q,'Unit Sales'!$U:$U,'Monthly cashflow'!$B$4,'Unit Sales'!$C:$C,'Monthly cashflow'!$C11,'Unit Sales'!$S:$S,'Monthly cashflow'!I$3) -> 0 | J11: =SUMIFS('Unit Sales'!$Q:$Q,'Unit Sales'!$U:$U,'Monthly cashflow'!$B$4,'Unit Sales'!$C:$C,'Monthly cashflow'!$C11,'Unit Sales'!$S:$S,'Monthly cashflow'!J$3) -> 0 | K11: =SUMIFS('Unit Sales'!$Q:$Q,'Unit Sales'!$U:$U,'Monthly cashflow'!$B$4,'Unit Sales'!$C:$C,'Monthly cashflow'!$C11,'Unit Sales'!$S:$S,'Monthly cashflow'!K$3) -> 0 | L11: =SUMIFS('Unit Sales'!$Q:$Q,'Unit Sales'!$U:$U,'Monthly cashflow'!$B$4,'Unit Sales'!$C:$C,'Monthly cashflow'!$C11,'Unit Sales'!$S:$S,'Monthly cashflow'!L$3) -> 0 | ... DT11: =SUMIFS('Unit Sales'!$Q:$Q,'Unit Sales'!$U:$U,'Monthly cashflow'!$B$4,'Unit Sales'!$C:$C,'Monthly cashflow'!$C11,'Unit Sales'!$S:$S,'Monthly cashflow'!DT$3) -> 0
C12: Phase 9 | D12: =SUM(E12:DT12) -> 0 | E12: =SUMIFS('Unit Sales'!$Q:$Q,'Unit Sales'!$U:$U,'Monthly cashflow'!$B$4,'Unit Sales'!$C:$C,'Monthly cashflow'!$C12,'Unit Sales'!$S:$S,'Monthly cashflow'!E$3) -> 0 | F12: =SUMIFS('Unit Sales'!$Q:$Q,'Unit Sales'!$U:$U,'Monthly cashflow'!$B$4,'Unit Sales'!$C:$C,'Monthly cashflow'!$C12,'Unit Sales'!$S:$S,'Monthly cashflow'!F$3) -> 0 | G12: =SUMIFS('Unit Sales'!$Q:$Q,'Unit Sales'!$U:$U,'Monthly cashflow'!$B$4,'Unit Sales'!$C:$C,'Monthly cashflow'!$C12,'Unit Sales'!$S:$S,'Monthly cashflow'!G$3) -> 0 | H12: =SUMIFS('Unit Sales'!$Q:$Q,'Unit Sales'!$U:$U,'Monthly cashflow'!$B$4,'Unit Sales'!$C:$C,'Monthly cashflow'!$C12,'Unit Sales'!$S:$S,'Monthly cashflow'!H$3) -> 0 | I12: =SUMIFS('Unit Sales'!$Q:$Q,'Unit Sales'!$U:$U,'Monthly cashflow'!$B$4,'Unit Sales'!$C:$C,'Monthly cashflow'!$C12,'Unit Sales'!$S:$S,'Monthly cashflow'!I$3) -> 0 | J12: =SUMIFS('Unit Sales'!$Q:$Q,'Unit Sales'!$U:$U,'Monthly cashflow'!$B$4,'Unit Sales'!$C:$C,'Monthly cashflow'!$C12,'Unit Sales'!$S:$S,'Monthly cashflow'!J$3) -> 0 | K12: =SUMIFS('Unit Sales'!$Q:$Q,'Unit Sales'!$U:$U,'Monthly cashflow'!$B$4,'Unit Sales'!$C:$C,'Monthly cashflow'!$C12,'Unit Sales'!$S:$S,'Monthly cashflow'!K$3) -> 0 | L12: =SUMIFS('Unit Sales'!$Q:$Q,'Unit Sales'!$U:$U,'Monthly cashflow'!$B$4,'Unit Sales'!$C:$C,'Monthly cashflow'!$C12,'Unit Sales'!$S:$S,'Monthly cashflow'!L$3) -> 0 | ... DT12: =SUMIFS('Unit Sales'!$Q:$Q,'Unit Sales'!$U:$U,'Monthly cashflow'!$B$4,'Unit Sales'!$C:$C,'Monthly cashflow'!$C12,'Unit Sales'!$S:$S,'Monthly cashflow'!DT$3) -> 0
C13: Phase 10 | D13: =SUM(E13:DT13) -> 0 | E13: =SUMIFS('Unit Sales'!$Q:$Q,'Unit Sales'!$U:$U,'Monthly cashflow'!$B$4,'Unit Sales'!$C:$C,'Monthly cashflow'!$C13,'Unit Sales'!$S:$S,'Monthly cashflow'!E$3) -> 0 | F13: =SUMIFS('Unit Sales'!$Q:$Q,'Unit Sales'!$U:$U,'Monthly cashflow'!$B$4,'Unit Sales'!$C:$C,'Monthly cashflow'!$C13,'Unit Sales'!$S:$S,'Monthly cashflow'!F$3) -> 0 | G13: =SUMIFS('Unit Sales'!$Q:$Q,'Unit Sales'!$U:$U,'Monthly cashflow'!$B$4,'Unit Sales'!$C:$C,'Monthly cashflow'!$C13,'Unit Sales'!$S:$S,'Monthly cashflow'!G$3) -> 0 | H13: =SUMIFS('Unit Sales'!$Q:$Q,'Unit Sales'!$U:$U,'Monthly cashflow'!$B$4,'Unit Sales'!$C:$C,'Monthly cashflow'!$C13,'Unit Sales'!$S:$S,'Monthly cashflow'!H$3) -> 0 | I13: =SUMIFS('Unit Sales'!$Q:$Q,'Unit Sales'!$U:$U,'Monthly cashflow'!$B$4,'Unit Sales'!$C:$C,'Monthly cashflow'!$C13,'Unit Sales'!$S:$S,'Monthly cashflow'!I$3) -> 0 | J13: =SUMIFS('Unit Sales'!$Q:$Q,'Unit Sales'!$U:$U,'Monthly cashflow'!$B$4,'Unit Sales'!$C:$C,'Monthly cashflow'!$C13,'Unit Sales'!$S:$S,'Monthly cashflow'!J$3) -> 0 | K13: =SUMIFS('Unit Sales'!$Q:$Q,'Unit Sales'!$U:$U,'Monthly cashflow'!$B$4,'Unit Sales'!$C:$C,'Monthly cashflow'!$C13,'Unit Sales'!$S:$S,'Monthly cashflow'!K$3) -> 0 | L13: =SUMIFS('Unit Sales'!$Q:$Q,'Unit Sales'!$U:$U,'Monthly cashflow'!$B$4,'Unit Sales'!$C:$C,'Monthly cashflow'!$C13,'Unit Sales'!$S:$S,'Monthly cashflow'!L$3) -> 0 | ... DT13: =SUMIFS('Unit Sales'!$Q:$Q,'Unit Sales'!$U:$U,'Monthly cashflow'!$B$4,'Unit Sales'!$C:$C,'Monthly cashflow'!$C13,'Unit Sales'!$S:$S,'Monthly cashflow'!DT$3) -> 0
B14: Total House | D14: =SUM(E14:DT14) -> 0 | E14: =SUM(E4:E13) -> 0 | F14: =SUM(F4:F13) -> 0 | G14: =SUM(G4:G13) -> 0 | H14: =SUM(H4:H13) -> 0 | I14: =SUM(I4:I13) -> 0 | J14: =SUM(J4:J13) -> 0 | K14: =SUM(K4:K13) -> 0 | L14: =SUM(L4:L13) -> 0 | ... DT14: =SUM(DT4:DT13) -> 0
B15: Apartment | C15: Phase 1 | D15: =SUM(E15:DT15) -> 0 | E15: =SUMIFS('Unit Sales'!$Q:$Q,'Unit Sales'!$U:$U,'Monthly cashflow'!$B$15,'Unit Sales'!$C:$C,'Monthly cashflow'!$C15,'Unit Sales'!$S:$S,'Monthly cashflow'!E$3) -> 0 | F15: =SUMIFS('Unit Sales'!$Q:$Q,'Unit Sales'!$U:$U,'Monthly cashflow'!$B$15,'Unit Sales'!$C:$C,'Monthly cashflow'!$C15,'Unit Sales'!$S:$S,'Monthly cashflow'!F$3) -> 0 | G15: =SUMIFS('Unit Sales'!$Q:$Q,'Unit Sales'!$U:$U,'Monthly cashflow'!$B$15,'Unit Sales'!$C:$C,'Monthly cashflow'!$C15,'Unit Sales'!$S:$S,'Monthly cashflow'!G$3) -> 0 | H15: =SUMIFS('Unit Sales'!$Q:$Q,'Unit Sales'!$U:$U,'Monthly cashflow'!$B$15,'Unit Sales'!$C:$C,'Monthly cashflow'!$C15,'Unit Sales'!$S:$S,'Monthly cashflow'!H$3) -> 0 | I15: =SUMIFS('Unit Sales'!$Q:$Q,'Unit Sales'!$U:$U,'Monthly cashflow'!$B$15,'Unit Sales'!$C:$C,'Monthly cashflow'!$C15,'Unit Sales'!$S:$S,'Monthly cashflow'!I$3) -> 0 | J15: =SUMIFS('Unit Sales'!$Q:$Q,'Unit Sales'!$U:$U,'Monthly cashflow'!$B$15,'Unit Sales'!$C:$C,'Monthly cashflow'!$C15,'Unit Sales'!$S:$S,'Monthly cashflow'!J$3) -> 0 | K15: =SUMIFS('Unit Sales'!$Q:$Q,'Unit Sales'!$U:$U,'Monthly cashflow'!$B$15,'Unit Sales'!$C:$C,'Monthly cashflow'!$C15,'Unit Sales'!$S:$S,'Monthly cashflow'!K$3) -> 0 | L15: =SUMIFS('Unit Sales'!$Q:$Q,'Unit Sales'!$U:$U,'Monthly cashflow'!$B$15,'Unit Sales'!$C:$C,'Monthly cashflow'!$C15,'Unit Sales'!$S:$S,'Monthly cashflow'!L$3) -> 0 | ... DT15: =SUMIFS('Unit Sales'!$Q:$Q,'Unit Sales'!$U:$U,'Monthly cashflow'!$B$15,'Unit Sales'!$C:$C,'Monthly cashflow'!$C15,'Unit Sales'!$S:$S,'Monthly cashflow'!DT$3) -> 0
C16: Phase 2 | D16: =SUM(E16:DT16) -> 0 | E16: =SUMIFS('Unit Sales'!$Q:$Q,'Unit Sales'!$U:$U,'Monthly cashflow'!$B$15,'Unit Sales'!$C:$C,'Monthly cashflow'!$C16,'Unit Sales'!$S:$S,'Monthly cashflow'!E$3) -> 0 | F16: =SUMIFS('Unit Sales'!$Q:$Q,'Unit Sales'!$U:$U,'Monthly cashflow'!$B$15,'Unit Sales'!$C:$C,'Monthly cashflow'!$C16,'Unit Sales'!$S:$S,'Monthly cashflow'!F$3) -> 0 | G16: =SUMIFS('Unit Sales'!$Q:$Q,'Unit Sales'!$U:$U,'Monthly cashflow'!$B$15,'Unit Sales'!$C:$C,'Monthly cashflow'!$C16,'Unit Sales'!$S:$S,'Monthly cashflow'!G$3) -> 0 | H16: =SUMIFS('Unit Sales'!$Q:$Q,'Unit Sales'!$U:$U,'Monthly cashflow'!$B$15,'Unit Sales'!$C:$C,'Monthly cashflow'!$C16,'Unit Sales'!$S:$S,'Monthly cashflow'!H$3) -> 0 | I16: =SUMIFS('Unit Sales'!$Q:$Q,'Unit Sales'!$U:$U,'Monthly cashflow'!$B$15,'Unit Sales'!$C:$C,'Monthly cashflow'!$C16,'Unit Sales'!$S:$S,'Monthly cashflow'!I$3) -> 0 | J16: =SUMIFS('Unit Sales'!$Q:$Q,'Unit Sales'!$U:$U,'Monthly cashflow'!$B$15,'Unit Sales'!$C:$C,'Monthly cashflow'!$C16,'Unit Sales'!$S:$S,'Monthly cashflow'!J$3) -> 0 | K16: =SUMIFS('Unit Sales'!$Q:$Q,'Unit Sales'!$U:$U,'Monthly cashflow'!$B$15,'Unit Sales'!$C:$C,'Monthly cashflow'!$C16,'Unit Sales'!$S:$S,'Monthly cashflow'!K$3) -> 0 | L16: =SUMIFS('Unit Sales'!$Q:$Q,'Unit Sales'!$U:$U,'Monthly cashflow'!$B$15,'Unit Sales'!$C:$C,'Monthly cashflow'!$C16,'Unit Sales'!$S:$S,'Monthly cashflow'!L$3) -> 0 | ... DT16: =SUMIFS('Unit Sales'!$Q:$Q,'Unit Sales'!$U:$U,'Monthly cashflow'!$B$15,'Unit Sales'!$C:$C,'Monthly cashflow'!$C16,'Unit Sales'!$S:$S,'Monthly cashflow'!DT$3) -> 0
C17: Phase 3 | D17: =SUM(E17:DT17) -> 0 | E17: =SUMIFS('Unit Sales'!$Q:$Q,'Unit Sales'!$U:$U,'Monthly cashflow'!$B$15,'Unit Sales'!$C:$C,'Monthly cashflow'!$C17,'Unit Sales'!$S:$S,'Monthly cashflow'!E$3) -> 0 | F17: =SUMIFS('Unit Sales'!$Q:$Q,'Unit Sales'!$U:$U,'Monthly cashflow'!$B$15,'Unit Sales'!$C:$C,'Monthly cashflow'!$C17,'Unit Sales'!$S:$S,'Monthly cashflow'!F$3) -> 0 | G17: =SUMIFS('Unit Sales'!$Q:$Q,'Unit Sales'!$U:$U,'Monthly cashflow'!$B$15,'Unit Sales'!$C:$C,'Monthly cashflow'!$C17,'Unit Sales'!$S:$S,'Monthly cashflow'!G$3) -> 0 | H17: =SUMIFS('Unit Sales'!$Q:$Q,'Unit Sales'!$U:$U,'Monthly cashflow'!$B$15,'Unit Sales'!$C:$C,'Monthly cashflow'!$C17,'Unit Sales'!$S:$S,'Monthly cashflow'!H$3) -> 0 | I17: =SUMIFS('Unit Sales'!$Q:$Q,'Unit Sales'!$U:$U,'Monthly cashflow'!$B$15,'Unit Sales'!$C:$C,'Monthly cashflow'!$C17,'Unit Sales'!$S:$S,'Monthly cashflow'!I$3) -> 0 | J17: =SUMIFS('Unit Sales'!$Q:$Q,'Unit Sales'!$U:$U,'Monthly cashflow'!$B$15,'Unit Sales'!$C:$C,'Monthly cashflow'!$C17,'Unit Sales'!$S:$S,'Monthly cashflow'!J$3) -> 0 | K17: =SUMIFS('Unit Sales'!$Q:$Q,'Unit Sales'!$U:$U,'Monthly cashflow'!$B$15,'Unit Sales'!$C:$C,'Monthly cashflow'!$C17,'Unit Sales'!$S:$S,'Monthly cashflow'!K$3) -> 0 | L17: =SUMIFS('Unit Sales'!$Q:$Q,'Unit Sales'!$U:$U,'Monthly cashflow'!$B$15,'Unit Sales'!$C:$C,'Monthly cashflow'!$C17,'Unit Sales'!$S:$S,'Monthly cashflow'!L$3) -> 0 | ... DT17: =SUMIFS('Unit Sales'!$Q:$Q,'Unit Sales'!$U:$U,'Monthly cashflow'!$B$15,'Unit Sales'!$C:$C,'Monthly cashflow'!$C17,'Unit Sales'!$S:$S,'Monthly cashflow'!DT$3) -> 0
C18: Phase 4 | D18: =SUM(E18:DT18) -> 0 | E18: =SUMIFS('Unit Sales'!$Q:$Q,'Unit Sales'!$U:$U,'Monthly cashflow'!$B$15,'Unit Sales'!$C:$C,'Monthly cashflow'!$C18,'Unit Sales'!$S:$S,'Monthly cashflow'!E$3) -> 0 | F18: =SUMIFS('Unit Sales'!$Q:$Q,'Unit Sales'!$U:$U,'Monthly cashflow'!$B$15,'Unit Sales'!$C:$C,'Monthly cashflow'!$C18,'Unit Sales'!$S:$S,'Monthly cashflow'!F$3) -> 0 | G18: =SUMIFS('Unit Sales'!$Q:$Q,'Unit Sales'!$U:$U,'Monthly cashflow'!$B$15,'Unit Sales'!$C:$C,'Monthly cashflow'!$C18,'Unit Sales'!$S:$S,'Monthly cashflow'!G$3) -> 0 | H18: =SUMIFS('Unit Sales'!$Q:$Q,'Unit Sales'!$U:$U,'Monthly cashflow'!$B$15,'Unit Sales'!$C:$C,'Monthly cashflow'!$C18,'Unit Sales'!$S:$S,'Monthly cashflow'!H$3) -> 0 | I18: =SUMIFS('Unit Sales'!$Q:$Q,'Unit Sales'!$U:$U,'Monthly cashflow'!$B$15,'Unit Sales'!$C:$C,'Monthly cashflow'!$C18,'Unit Sales'!$S:$S,'Monthly cashflow'!I$3) -> 0 | J18: =SUMIFS('Unit Sales'!$Q:$Q,'Unit Sales'!$U:$U,'Monthly cashflow'!$B$15,'Unit Sales'!$C:$C,'Monthly cashflow'!$C18,'Unit Sales'!$S:$S,'Monthly cashflow'!J$3) -> 0 | K18: =SUMIFS('Unit Sales'!$Q:$Q,'Unit Sales'!$U:$U,'Monthly cashflow'!$B$15,'Unit Sales'!$C:$C,'Monthly cashflow'!$C18,'Unit Sales'!$S:$S,'Monthly cashflow'!K$3) -> 0 | L18: =SUMIFS('Unit Sales'!$Q:$Q,'Unit Sales'!$U:$U,'Monthly cashflow'!$B$15,'Unit Sales'!$C:$C,'Monthly cashflow'!$C18,'Unit Sales'!$S:$S,'Monthly cashflow'!L$3) -> 0 | ... DT18: =SUMIFS('Unit Sales'!$Q:$Q,'Unit Sales'!$U:$U,'Monthly cashflow'!$B$15,'Unit Sales'!$C:$C,'Monthly cashflow'!$C18,'Unit Sales'!$S:$S,'Monthly cashflow'!DT$3) -> 0
C19: Phase 5 | D19: =SUM(E19:DT19) -> 0 | E19: =SUMIFS('Unit Sales'!$Q:$Q,'Unit Sales'!$U:$U,'Monthly cashflow'!$B$15,'Unit Sales'!$C:$C,'Monthly cashflow'!$C19,'Unit Sales'!$S:$S,'Monthly cashflow'!E$3) -> 0 | F19: =SUMIFS('Unit Sales'!$Q:$Q,'Unit Sales'!$U:$U,'Monthly cashflow'!$B$15,'Unit Sales'!$C:$C,'Monthly cashflow'!$C19,'Unit Sales'!$S:$S,'Monthly cashflow'!F$3) -> 0 | G19: =SUMIFS('Unit Sales'!$Q:$Q,'Unit Sales'!$U:$U,'Monthly cashflow'!$B$15,'Unit Sales'!$C:$C,'Monthly cashflow'!$C19,'Unit Sales'!$S:$S,'Monthly cashflow'!G$3) -> 0 | H19: =SUMIFS('Unit Sales'!$Q:$Q,'Unit Sales'!$U:$U,'Monthly cashflow'!$B$15,'Unit Sales'!$C:$C,'Monthly cashflow'!$C19,'Unit Sales'!$S:$S,'Monthly cashflow'!H$3) -> 0 | I19: =SUMIFS('Unit Sales'!$Q:$Q,'Unit Sales'!$U:$U,'Monthly cashflow'!$B$15,'Unit Sales'!$C:$C,'Monthly cashflow'!$C19,'Unit Sales'!$S:$S,'Monthly cashflow'!I$3) -> 0 | J19: =SUMIFS('Unit Sales'!$Q:$Q,'Unit Sales'!$U:$U,'Monthly cashflow'!$B$15,'Unit Sales'!$C:$C,'Monthly cashflow'!$C19,'Unit Sales'!$S:$S,'Monthly cashflow'!J$3) -> 0 | K19: =SUMIFS('Unit Sales'!$Q:$Q,'Unit Sales'!$U:$U,'Monthly cashflow'!$B$15,'Unit Sales'!$C:$C,'Monthly cashflow'!$C19,'Unit Sales'!$S:$S,'Monthly cashflow'!K$3) -> 0 | L19: =SUMIFS('Unit Sales'!$Q:$Q,'Unit Sales'!$U:$U,'Monthly cashflow'!$B$15,'Unit Sales'!$C:$C,'Monthly cashflow'!$C19,'Unit Sales'!$S:$S,'Monthly cashflow'!L$3) -> 0 | ... DT19: =SUMIFS('Unit Sales'!$Q:$Q,'Unit Sales'!$U:$U,'Monthly cashflow'!$B$15,'Unit Sales'!$C:$C,'Monthly cashflow'!$C19,'Unit Sales'!$S:$S,'Monthly cashflow'!DT$3) -> 0
C20: Phase 6 | D20: =SUM(E20:DT20) -> 0 | E20: =SUMIFS('Unit Sales'!$Q:$Q,'Unit Sales'!$U:$U,'Monthly cashflow'!$B$15,'Unit Sales'!$C:$C,'Monthly cashflow'!$C20,'Unit Sales'!$S:$S,'Monthly cashflow'!E$3) -> 0 | F20: =SUMIFS('Unit Sales'!$Q:$Q,'Unit Sales'!$U:$U,'Monthly cashflow'!$B$15,'Unit Sales'!$C:$C,'Monthly cashflow'!$C20,'Unit Sales'!$S:$S,'Monthly cashflow'!F$3) -> 0 | G20: =SUMIFS('Unit Sales'!$Q:$Q,'Unit Sales'!$U:$U,'Monthly cashflow'!$B$15,'Unit Sales'!$C:$C,'Monthly cashflow'!$C20,'Unit Sales'!$S:$S,'Monthly cashflow'!G$3) -> 0 | H20: =SUMIFS('Unit Sales'!$Q:$Q,'Unit Sales'!$U:$U,'Monthly cashflow'!$B$15,'Unit Sales'!$C:$C,'Monthly cashflow'!$C20,'Unit Sales'!$S:$S,'Monthly cashflow'!H$3) -> 0 | I20: =SUMIFS('Unit Sales'!$Q:$Q,'Unit Sales'!$U:$U,'Monthly cashflow'!$B$15,'Unit Sales'!$C:$C,'Monthly cashflow'!$C20,'Unit Sales'!$S:$S,'Monthly cashflow'!I$3) -> 0 | J20: =SUMIFS('Unit Sales'!$Q:$Q,'Unit Sales'!$U:$U,'Monthly cashflow'!$B$15,'Unit Sales'!$C:$C,'Monthly cashflow'!$C20,'Unit Sales'!$S:$S,'Monthly cashflow'!J$3) -> 0 | K20: =SUMIFS('Unit Sales'!$Q:$Q,'Unit Sales'!$U:$U,'Monthly cashflow'!$B$15,'Unit Sales'!$C:$C,'Monthly cashflow'!$C20,'Unit Sales'!$S:$S,'Monthly cashflow'!K$3) -> 0 | L20: =SUMIFS('Unit Sales'!$Q:$Q,'Unit Sales'!$U:$U,'Monthly cashflow'!$B$15,'Unit Sales'!$C:$C,'Monthly cashflow'!$C20,'Unit Sales'!$S:$S,'Monthly cashflow'!L$3) -> 0 | ... DT20: =SUMIFS('Unit Sales'!$Q:$Q,'Unit Sales'!$U:$U,'Monthly cashflow'!$B$15,'Unit Sales'!$C:$C,'Monthly cashflow'!$C20,'Unit Sales'!$S:$S,'Monthly cashflow'!DT$3) -> 0
C21: Phase 7 | D21: =SUM(E21:DT21) -> 0 | E21: =SUMIFS('Unit Sales'!$Q:$Q,'Unit Sales'!$U:$U,'Monthly cashflow'!$B$15,'Unit Sales'!$C:$C,'Monthly cashflow'!$C21,'Unit Sales'!$S:$S,'Monthly cashflow'!E$3) -> 0 | F21: =SUMIFS('Unit Sales'!$Q:$Q,'Unit Sales'!$U:$U,'Monthly cashflow'!$B$15,'Unit Sales'!$C:$C,'Monthly cashflow'!$C21,'Unit Sales'!$S:$S,'Monthly cashflow'!F$3) -> 0 | G21: =SUMIFS('Unit Sales'!$Q:$Q,'Unit Sales'!$U:$U,'Monthly cashflow'!$B$15,'Unit Sales'!$C:$C,'Monthly cashflow'!$C21,'Unit Sales'!$S:$S,'Monthly cashflow'!G$3) -> 0 | H21: =SUMIFS('Unit Sales'!$Q:$Q,'Unit Sales'!$U:$U,'Monthly cashflow'!$B$15,'Unit Sales'!$C:$C,'Monthly cashflow'!$C21,'Unit Sales'!$S:$S,'Monthly cashflow'!H$3) -> 0 | I21: =SUMIFS('Unit Sales'!$Q:$Q,'Unit Sales'!$U:$U,'Monthly cashflow'!$B$15,'Unit Sales'!$C:$C,'Monthly cashflow'!$C21,'Unit Sales'!$S:$S,'Monthly cashflow'!I$3) -> 0 | J21: =SUMIFS('Unit Sales'!$Q:$Q,'Unit Sales'!$U:$U,'Monthly cashflow'!$B$15,'Unit Sales'!$C:$C,'Monthly cashflow'!$C21,'Unit Sales'!$S:$S,'Monthly cashflow'!J$3) -> 0 | K21: =SUMIFS('Unit Sales'!$Q:$Q,'Unit Sales'!$U:$U,'Monthly cashflow'!$B$15,'Unit Sales'!$C:$C,'Monthly cashflow'!$C21,'Unit Sales'!$S:$S,'Monthly cashflow'!K$3) -> 0 | L21: =SUMIFS('Unit Sales'!$Q:$Q,'Unit Sales'!$U:$U,'Monthly cashflow'!$B$15,'Unit Sales'!$C:$C,'Monthly cashflow'!$C21,'Unit Sales'!$S:$S,'Monthly cashflow'!L$3) -> 0 | ... DT21: =SUMIFS('Unit Sales'!$Q:$Q,'Unit Sales'!$U:$U,'Monthly cashflow'!$B$15,'Unit Sales'!$C:$C,'Monthly cashflow'!$C21,'Unit Sales'!$S:$S,'Monthly cashflow'!DT$3) -> 0
C22: Phase 8 | D22: =SUM(E22:DT22) -> 0 | E22: =SUMIFS('Unit Sales'!$Q:$Q,'Unit Sales'!$U:$U,'Monthly cashflow'!$B$15,'Unit Sales'!$C:$C,'Monthly cashflow'!$C22,'Unit Sales'!$S:$S,'Monthly cashflow'!E$3) -> 0 | F22: =SUMIFS('Unit Sales'!$Q:$Q,'Unit Sales'!$U:$U,'Monthly cashflow'!$B$15,'Unit Sales'!$C:$C,'Monthly cashflow'!$C22,'Unit Sales'!$S:$S,'Monthly cashflow'!F$3) -> 0 | G22: =SUMIFS('Unit Sales'!$Q:$Q,'Unit Sales'!$U:$U,'Monthly cashflow'!$B$15,'Unit Sales'!$C:$C,'Monthly cashflow'!$C22,'Unit Sales'!$S:$S,'Monthly cashflow'!G$3) -> 0 | H22: =SUMIFS('Unit Sales'!$Q:$Q,'Unit Sales'!$U:$U,'Monthly cashflow'!$B$15,'Unit Sales'!$C:$C,'Monthly cashflow'!$C22,'Unit Sales'!$S:$S,'Monthly cashflow'!H$3) -> 0 | I22: =SUMIFS('Unit Sales'!$Q:$Q,'Unit Sales'!$U:$U,'Monthly cashflow'!$B$15,'Unit Sales'!$C:$C,'Monthly cashflow'!$C22,'Unit Sales'!$S:$S,'Monthly cashflow'!I$3) -> 0 | J22: =SUMIFS('Unit Sales'!$Q:$Q,'Unit Sales'!$U:$U,'Monthly cashflow'!$B$15,'Unit Sales'!$C:$C,'Monthly cashflow'!$C22,'Unit Sales'!$S:$S,'Monthly cashflow'!J$3) -> 0 | K22: =SUMIFS('Unit Sales'!$Q:$Q,'Unit Sales'!$U:$U,'Monthly cashflow'!$B$15,'Unit Sales'!$C:$C,'Monthly cashflow'!$C22,'Unit Sales'!$S:$S,'Monthly cashflow'!K$3) -> 0 | L22: =SUMIFS('Unit Sales'!$Q:$Q,'Unit Sales'!$U:$U,'Monthly cashflow'!$B$15,'Unit Sales'!$C:$C,'Monthly cashflow'!$C22,'Unit Sales'!$S:$S,'Monthly cashflow'!L$3) -> 0 | ... DT22: =SUMIFS('Unit Sales'!$Q:$Q,'Unit Sales'!$U:$U,'Monthly cashflow'!$B$15,'Unit Sales'!$C:$C,'Monthly cashflow'!$C22,'Unit Sales'!$S:$S,'Monthly cashflow'!DT$3) -> 0
C23: Phase 9 | D23: =SUM(E23:DT23) -> 0 | E23: =SUMIFS('Unit Sales'!$Q:$Q,'Unit Sales'!$U:$U,'Monthly cashflow'!$B$15,'Unit Sales'!$C:$C,'Monthly cashflow'!$C23,'Unit Sales'!$S:$S,'Monthly cashflow'!E$3) -> 0 | F23: =SUMIFS('Unit Sales'!$Q:$Q,'Unit Sales'!$U:$U,'Monthly cashflow'!$B$15,'Unit Sales'!$C:$C,'Monthly cashflow'!$C23,'Unit Sales'!$S:$S,'Monthly cashflow'!F$3) -> 0 | G23: =SUMIFS('Unit Sales'!$Q:$Q,'Unit Sales'!$U:$U,'Monthly cashflow'!$B$15,'Unit Sales'!$C:$C,'Monthly cashflow'!$C23,'Unit Sales'!$S:$S,'Monthly cashflow'!G$3) -> 0 | H23: =SUMIFS('Unit Sales'!$Q:$Q,'Unit Sales'!$U:$U,'Monthly cashflow'!$B$15,'Unit Sales'!$C:$C,'Monthly cashflow'!$C23,'Unit Sales'!$S:$S,'Monthly cashflow'!H$3) -> 0 | I23: =SUMIFS('Unit Sales'!$Q:$Q,'Unit Sales'!$U:$U,'Monthly cashflow'!$B$15,'Unit Sales'!$C:$C,'Monthly cashflow'!$C23,'Unit Sales'!$S:$S,'Monthly cashflow'!I$3) -> 0 | J23: =SUMIFS('Unit Sales'!$Q:$Q,'Unit Sales'!$U:$U,'Monthly cashflow'!$B$15,'Unit Sales'!$C:$C,'Monthly cashflow'!$C23,'Unit Sales'!$S:$S,'Monthly cashflow'!J$3) -> 0 | K23: =SUMIFS('Unit Sales'!$Q:$Q,'Unit Sales'!$U:$U,'Monthly cashflow'!$B$15,'Unit Sales'!$C:$C,'Monthly cashflow'!$C23,'Unit Sales'!$S:$S,'Monthly cashflow'!K$3) -> 0 | L23: =SUMIFS('Unit Sales'!$Q:$Q,'Unit Sales'!$U:$U,'Monthly cashflow'!$B$15,'Unit Sales'!$C:$C,'Monthly cashflow'!$C23,'Unit Sales'!$S:$S,'Monthly cashflow'!L$3) -> 0 | ... DT23: =SUMIFS('Unit Sales'!$Q:$Q,'Unit Sales'!$U:$U,'Monthly cashflow'!$B$15,'Unit Sales'!$C:$C,'Monthly cashflow'!$C23,'Unit Sales'!$S:$S,'Monthly cashflow'!DT$3) -> 0
C24: Phase 10 | D24: =SUM(E24:DT24) -> 0 | E24: =SUMIFS('Unit Sales'!$Q:$Q,'Unit Sales'!$U:$U,'Monthly cashflow'!$B$15,'Unit Sales'!$C:$C,'Monthly cashflow'!$C24,'Unit Sales'!$S:$S,'Monthly cashflow'!E$3) -> 0 | F24: =SUMIFS('Unit Sales'!$Q:$Q,'Unit Sales'!$U:$U,'Monthly cashflow'!$B$15,'Unit Sales'!$C:$C,'Monthly cashflow'!$C24,'Unit Sales'!$S:$S,'Monthly cashflow'!F$3) -> 0 | G24: =SUMIFS('Unit Sales'!$Q:$Q,'Unit Sales'!$U:$U,'Monthly cashflow'!$B$15,'Unit Sales'!$C:$C,'Monthly cashflow'!$C24,'Unit Sales'!$S:$S,'Monthly cashflow'!G$3) -> 0 | H24: =SUMIFS('Unit Sales'!$Q:$Q,'Unit Sales'!$U:$U,'Monthly cashflow'!$B$15,'Unit Sales'!$C:$C,'Monthly cashflow'!$C24,'Unit Sales'!$S:$S,'Monthly cashflow'!H$3) -> 0 | I24: =SUMIFS('Unit Sales'!$Q:$Q,'Unit Sales'!$U:$U,'Monthly cashflow'!$B$15,'Unit Sales'!$C:$C,'Monthly cashflow'!$C24,'Unit Sales'!$S:$S,'Monthly cashflow'!I$3) -> 0 | J24: =SUMIFS('Unit Sales'!$Q:$Q,'Unit Sales'!$U:$U,'Monthly cashflow'!$B$15,'Unit Sales'!$C:$C,'Monthly cashflow'!$C24,'Unit Sales'!$S:$S,'Monthly cashflow'!J$3) -> 0 | K24: =SUMIFS('Unit Sales'!$Q:$Q,'Unit Sales'!$U:$U,'Monthly cashflow'!$B$15,'Unit Sales'!$C:$C,'Monthly cashflow'!$C24,'Unit Sales'!$S:$S,'Monthly cashflow'!K$3) -> 0 | L24: =SUMIFS('Unit Sales'!$Q:$Q,'Unit Sales'!$U:$U,'Monthly cashflow'!$B$15,'Unit Sales'!$C:$C,'Monthly cashflow'!$C24,'Unit Sales'!$S:$S,'Monthly cashflow'!L$3) -> 0 | ... DT24: =SUMIFS('Unit Sales'!$Q:$Q,'Unit Sales'!$U:$U,'Monthly cashflow'!$B$15,'Unit Sales'!$C:$C,'Monthly cashflow'!$C24,'Unit Sales'!$S:$S,'Monthly cashflow'!DT$3) -> 0
B25: Total Apartment | D25: =SUM(E25:DT25) -> 0 | E25: =SUM(E15:E24) -> 0 | F25: =SUM(F15:F24) -> 0 | G25: =SUM(G15:G24) -> 0 | H25: =SUM(H15:H24) -> 0 | I25: =SUM(I15:I24) -> 0 | J25: =SUM(J15:J24) -> 0 | K25: =SUM(K15:K24) -> 0 | L25: =SUM(L15:L24) -> 0 | ... DT25: =SUM(DT15:DT24) -> 0
B26: Other | D26: =SUM(E26:DT26) -> 0 | E26: =SUMIFS('Unit Sales'!$Q:$Q,'Unit Sales'!$U:$U,'Monthly cashflow'!$B$26,'Unit Sales'!$S:$S,'Monthly cashflow'!E$3) -> 0 | F26: =SUMIFS('Unit Sales'!$Q:$Q,'Unit Sales'!$U:$U,'Monthly cashflow'!$B$26,'Unit Sales'!$S:$S,'Monthly cashflow'!F$3) -> 0 | G26: =SUMIFS('Unit Sales'!$Q:$Q,'Unit Sales'!$U:$U,'Monthly cashflow'!$B$26,'Unit Sales'!$S:$S,'Monthly cashflow'!G$3) -> 0 | H26: =SUMIFS('Unit Sales'!$Q:$Q,'Unit Sales'!$U:$U,'Monthly cashflow'!$B$26,'Unit Sales'!$S:$S,'Monthly cashflow'!H$3) -> 0 | I26: =SUMIFS('Unit Sales'!$Q:$Q,'Unit Sales'!$U:$U,'Monthly cashflow'!$B$26,'Unit Sales'!$S:$S,'Monthly cashflow'!I$3) -> 0 | J26: =SUMIFS('Unit Sales'!$Q:$Q,'Unit Sales'!$U:$U,'Monthly cashflow'!$B$26,'Unit Sales'!$S:$S,'Monthly cashflow'!J$3) -> 0 | K26: =SUMIFS('Unit Sales'!$Q:$Q,'Unit Sales'!$U:$U,'Monthly cashflow'!$B$26,'Unit Sales'!$S:$S,'Monthly cashflow'!K$3) -> 0 | L26: =SUMIFS('Unit Sales'!$Q:$Q,'Unit Sales'!$U:$U,'Monthly cashflow'!$B$26,'Unit Sales'!$S:$S,'Monthly cashflow'!L$3) -> 0 | ... DT26: =SUMIFS('Unit Sales'!$Q:$Q,'Unit Sales'!$U:$U,'Monthly cashflow'!$B$26,'Unit Sales'!$S:$S,'Monthly cashflow'!DT$3) -> 0
B27: Total Gross Sales | D27: =SUM(E27:DT27) -> 0 | E27: =E26+E25+E14 -> 0 | F27: =F26+F25+F14 -> 0 | G27: =G26+G25+G14 -> 0 | H27: =H26+H25+H14 -> 0 | I27: =I26+I25+I14 -> 0 | J27: =J26+J25+J14 -> 0 | K27: =K26+K25+K14 -> 0 | L27: =L26+L25+L14 -> 0 | ... DT27: =DT26+DT25+DT14 -> 0
